BEGIN:VCALENDAR
VERSION:2.0
PRODID:-//ChamberMaster//Event Calendar 2.0//EN
METHOD:PUBLISH
X-PUBLISHED-TTL:P3D
REFRESH-INTERVAL:P3D
CALSCALE:GREGORIAN
BEGIN:VEVENT
DTSTART:20191207T140000Z
DTEND:20191207T200000Z
X-MICROSOFT-CDO-ALLDAYEVENT:FALSE
SUMMARY:11th Annual MIS Cares Charity Track & Toy Drive
DESCRIPTION:Enter through the tunnel off Brooklyn Hwy.\n\n	Donate a bag of nonperishable food items or a new\, unwrapped toy and take your vehicle on a lap around the track.\n	Photos with Santa and refreshments will be available\n	ALL FOOD & TOYS will be donated to Jackson and Lenawee County food Banks and Toys for Tots.\n\nThis event is weather permitting\, No motorcycles. Guests must be 21+ to drive the track with valid drivers's license and proof of insurance.
X-ALT-DESC;FMTTYPE=text/html:Enter through the tunnel off Brooklyn Hwy.\n<ul>\n	<li>Donate a bag of nonperishable food items or a new\, unwrapped toy and take your vehicle on a lap around the track.</li>\n	<li>Photos with Santa and refreshments will be available</li>\n	<li>ALL FOOD &amp\; TOYS will be donated to Jackson and Lenawee County food Banks and Toys for Tots.</li>\n</ul>\nThis event is weather permitting\, No motorcycles. Guests must be 21+ to drive the track with valid drivers&#39\;s license and proof of insurance.
LOCATION:Michigan International Speedway 12626 US 12 Brooklyn\, MI 49230
UID:e.2641.13017
SEQUENCE:3
DTSTAMP:20260423T183602Z
URL:https://business.irishhills.com/events/details/11th-annual-mis-cares-charity-track-toy-drive-13017
END:VEVENT

END:VCALENDAR
