BEGIN:VCALENDAR
VERSION:2.0
PRODID:-//ChamberMaster//Event Calendar 2.0//EN
METHOD:PUBLISH
X-PUBLISHED-TTL:P3D
REFRESH-INTERVAL:P3D
CALSCALE:GREGORIAN
BEGIN:VEVENT
DTSTART:20241130T170000Z
DTEND:20241223T230000Z
X-MICROSOFT-CDO-ALLDAYEVENT:FALSE
SUMMARY:Adrian Center for the Arts Holiday Market
DESCRIPTION:Shop local & support local artists-\n\nMonday thru Friday 12pm-6pm\n\nSaturday & Sunday 1pm-4pm\n\n\n\nOver 50 artists will have their one of a kind original artworks for sale.\n\nHoliday workshops every weekend.
X-ALT-DESC;FMTTYPE=text/html:Shop local &amp\; support local artists-<br />\nMonday thru Friday 12pm-6pm<br />\nSaturday &amp\; Sunday 1pm-4pm<br />\n<br />\nOver 50 artists will have their one of a kind original artworks for sale.<br />\nHoliday workshops every weekend.
LOCATION:Adrian Center for the Arts 1375 N. Main St. Building 46 Adrian\, MI
UID:e.2641.18788
SEQUENCE:3
DTSTAMP:20260419T185423Z
URL:https://business.irishhills.com/events/details/adrian-center-for-the-arts-holiday-market-18788
END:VEVENT

END:VCALENDAR
