BEGIN:VCALENDAR
VERSION:2.0
PRODID:-//ChamberMaster//Event Calendar 2.0//EN
METHOD:PUBLISH
X-PUBLISHED-TTL:P3D
REFRESH-INTERVAL:P3D
CALSCALE:GREGORIAN
BEGIN:VEVENT
DTSTART:20250411T220000Z
DTEND:20250412T000000Z
X-MICROSOFT-CDO-ALLDAYEVENT:FALSE
SUMMARY:Adrian Center for the Arts Veterans Doodling for Relaxation
DESCRIPTION:This class is for Veterans. Come and learn how the art of doodling can help you relax. Register HERE \n\nThis class is made possible by the generosity of the Flagstar Foundation. \n\nPlease note this class is in a historic building with steps.
X-ALT-DESC;FMTTYPE=text/html:<p style="box-sizing: border-box\; margin: 0px\; padding: 0px 0px 1em\; border: 0px\; outline: 0px\; font-size: 16px\; text-size-adjust: 100%\; vertical-align: baseline\; background: rgb(255\, 255\, 255)\; color: rgb(102\, 102\, 102)\; font-family: &quot\;Open Sans&quot\;\, Arial\, sans-serif\;">This class is for Veterans. Come and learn how the art of doodling can help you relax. Register <a href="https://adriancenterforthearts.org/class/veterans-doodling-for-relaxation-2/">HERE&nbsp\;</a></p>\n\n<p style="box-sizing: border-box\; margin: 0px\; padding: 0px 0px 1em\; border: 0px\; outline: 0px\; font-size: 16px\; text-size-adjust: 100%\; vertical-align: baseline\; background: rgb(255\, 255\, 255)\; color: rgb(102\, 102\, 102)\; font-family: &quot\;Open Sans&quot\;\, Arial\, sans-serif\;"><span style="font-family:times new roman\;">This class is made possible by the generosity of the Flagstar Foundation.&nbsp\;</span></p>\n\n<p style="box-sizing: border-box\; margin: 0px\; padding: 0px 0px 1em\; border: 0px\; outline: 0px\; font-size: 16px\; text-size-adjust: 100%\; vertical-align: baseline\; background: rgb(255\, 255\, 255)\; color: rgb(102\, 102\, 102)\; font-family: &quot\;Open Sans&quot\;\, Arial\, sans-serif\;"><span style="font-family:times new roman\;">Please note this class is in a historic building with steps.</span></p>\n
LOCATION:Gallery Classroom Bldg#46 1375 N. Main St. Adrian\, MI
UID:e.2641.19365
SEQUENCE:3
DTSTAMP:20260424T173258Z
URL:https://business.irishhills.com/events/details/adrian-center-for-the-arts-veterans-doodling-for-relaxation-19365
END:VEVENT

END:VCALENDAR
