BEGIN:VCALENDAR
VERSION:2.0
PRODID:-//ChamberMaster//Event Calendar 2.0//EN
METHOD:PUBLISH
X-PUBLISHED-TTL:P3D
REFRESH-INTERVAL:P3D
CALSCALE:GREGORIAN
BEGIN:VEVENT
DTSTART:20221127T130000Z
DTEND:20221127T170000Z
X-MICROSOFT-CDO-ALLDAYEVENT:FALSE
SUMMARY:All You Can Eat Breakfast at Irish Hills Eagles
DESCRIPTION:All you can eat breakfast\n\nCoffee included $7/$3 \n\nPublic Welcome
X-ALT-DESC;FMTTYPE=text/html:All you can eat breakfast<br />\nCoffee included $7/$3&nbsp\;<br />\nPublic Welcome
LOCATION:Irish Hills Eagles 9500 Wamplers Lake Rd. Brooklyn\, MI
UID:e.2641.15860
SEQUENCE:3
DTSTAMP:20260420T061220Z
URL:https://business.irishhills.com/events/details/all-you-can-eat-breakfast-at-irish-hills-eagles-15860
END:VEVENT

END:VCALENDAR
