BEGIN:VCALENDAR
VERSION:2.0
PRODID:-//ChamberMaster//Event Calendar 2.0//EN
METHOD:PUBLISH
X-PUBLISHED-TTL:P3D
REFRESH-INTERVAL:P3D
CALSCALE:GREGORIAN
BEGIN:VEVENT
DTSTART:20230528T220000Z
DTEND:20230529T010000Z
X-MICROSOFT-CDO-ALLDAYEVENT:FALSE
SUMMARY:Cherry Creek Cellars Music & Food Truck
DESCRIPTION:Music and food trucks weekends from May - September\n\nCheck out Cherry Creek Cellars Facebook page for up to date info on events.
X-ALT-DESC;FMTTYPE=text/html:Music and food trucks weekends from May - September<br />\nCheck out <a href="https://www.facebook.com/cherrycreekcellars">Cherry Creek Cellars Facebook</a> page for up to date info on events.&nbsp\;<br />\n<br />\n<br />\n&nbsp\;
LOCATION:Cherry Creek Cellars 11500 Silver Lake Hwy. Brooklyn\, MI
UID:e.2641.16266
SEQUENCE:3
DTSTAMP:20260423T040510Z
URL:https://business.irishhills.com/events/details/cherry-creek-cellars-music-food-truck-16266
END:VEVENT

END:VCALENDAR
