BEGIN:VCALENDAR
VERSION:2.0
PRODID:-//ChamberMaster//Event Calendar 2.0//EN
METHOD:PUBLISH
X-PUBLISHED-TTL:P3D
REFRESH-INTERVAL:P3D
CALSCALE:GREGORIAN
BEGIN:VEVENT
DTSTART:20241107T230000Z
DTEND:20241108T020000Z
X-MICROSOFT-CDO-ALLDAYEVENT:FALSE
SUMMARY:Clark Lake Golf Course Euchre and DJ Trivia Night
DESCRIPTION:Euchre at Clark Lake Golf Club starting at 6pm and open to the public.\n\n\n\nDJ Trivia starts at 7:30- free to play
X-ALT-DESC;FMTTYPE=text/html:Euchre at Clark Lake Golf Club starting at 6pm and open to the public.<br />\n<br />\nDJ Trivia starts at 7:30- free to play
LOCATION:Clark Lake Golf Club 5535 Wesch Rd Brooklyn\, MI
UID:e.2641.18690
SEQUENCE:3
DTSTAMP:20260425T220733Z
URL:https://business.irishhills.com/events/details/clark-lake-golf-course-euchre-and-dj-trivia-night-18690
END:VEVENT

END:VCALENDAR
