BEGIN:VCALENDAR
VERSION:2.0
PRODID:-//ChamberMaster//Event Calendar 2.0//EN
METHOD:PUBLISH
X-PUBLISHED-TTL:P3D
REFRESH-INTERVAL:P3D
CALSCALE:GREGORIAN
BEGIN:VEVENT
DTSTART:20250317T143000Z
DTEND:20250317T153000Z
X-MICROSOFT-CDO-ALLDAYEVENT:FALSE
SUMMARY:Coffee and Book Talk at Brooklyn Branch Library
DESCRIPTION:Every 3rd Monday through March The Brooklyn Branch Library will be having coffee & book talk.\n\nRelax and enjoy coffee and treats. Talk about what you are reading. Maybe get some suggestions for what to read next. Not a book club\, so assigned reading\, just a chance to get together with others who like to read.
X-ALT-DESC;FMTTYPE=text/html:Every 3rd Monday through March The Brooklyn Branch Library will be having coffee &amp\; book talk.<br />\nRelax and enjoy coffee and treats. Talk about what you are reading. Maybe get some suggestions for what to read next. Not a book club\, so assigned reading\, just a chance to get together with others who like to read.<br />\n&nbsp\;
LOCATION:Jackson District Library- Brooklyn Branch 207 N. Main St. Brooklyn\, MI
UID:e.2641.18849
SEQUENCE:3
DTSTAMP:20260426T041036Z
URL:https://business.irishhills.com/events/details/coffee-and-book-talk-at-brooklyn-branch-library-03-17-2025-18849
END:VEVENT

END:VCALENDAR
