BEGIN:VCALENDAR
VERSION:2.0
PRODID:-//ChamberMaster//Event Calendar 2.0//EN
METHOD:PUBLISH
X-PUBLISHED-TTL:P3D
REFRESH-INTERVAL:P3D
CALSCALE:GREGORIAN
BEGIN:VEVENT
DTSTART:20220503T223000Z
DTEND:20220504T010000Z
X-MICROSOFT-CDO-ALLDAYEVENT:FALSE
SUMMARY:Cornhole League at Two Lakes Tavern
DESCRIPTION:CORNHOLE LEAGUE LASTS 8 WEEKS. SIGN UP WITH A PARTNER. COST $80 PER TEAM($10 A WEEK PER TEAM). PAYOUT AT THE END OF THE 8 WEEKS. STILL HAVE A FEW SPOTS OPEN
X-ALT-DESC;FMTTYPE=text/html:<span style="font-family:arial\;"><span style="color: rgb(5\, 5\, 5)\; font-size: 15px\; white-space: pre-wrap\; background-color: rgb(255\, 255\, 255)\;">CORNHOLE LEAGUE LASTS 8 WEEKS. SIGN UP WITH A PARTNER. COST $80 PER TEAM($10 A WEEK PER TEAM). PAYOUT AT THE END OF THE 8 WEEKS. STILL HAVE A FEW SPOTS OPEN</span></span>
LOCATION:Two Lakes Tavern 110 Walnut St. Manitou Beach\, MI
UID:e.2641.15287
SEQUENCE:3
DTSTAMP:20260423T164236Z
URL:https://business.irishhills.com/events/details/cornhole-league-at-two-lakes-tavern-15287
END:VEVENT

END:VCALENDAR
