BEGIN:VCALENDAR
VERSION:2.0
PRODID:-//ChamberMaster//Event Calendar 2.0//EN
METHOD:PUBLISH
X-PUBLISHED-TTL:P3D
REFRESH-INTERVAL:P3D
CALSCALE:GREGORIAN
BEGIN:VEVENT
DTSTART:20240926T210000Z
DTEND:20240926T223000Z
X-MICROSOFT-CDO-ALLDAYEVENT:FALSE
SUMMARY:Cruise In Car Show at Sandbar Cafe
DESCRIPTION:Cruise In to the Sandbar Cafe every other Thursday \n\nFriends\, Music\, Cornhole\, Cards
X-ALT-DESC;FMTTYPE=text/html:Cruise In to the Sandbar Cafe every other Thursday&nbsp\;<br />\nFriends\, Music\, Cornhole\, Cards
LOCATION:Sandbar Cafe\, Coffee & Creamery 103 S. Talbot St. Addison\, MI
UID:e.2641.18099
SEQUENCE:3
DTSTAMP:20260422T154140Z
URL:https://business.irishhills.com/events/details/cruise-in-car-show-at-sandbar-cafe-09-26-2024-18099
END:VEVENT

END:VCALENDAR
