BEGIN:VCALENDAR
VERSION:2.0
PRODID:-//ChamberMaster//Event Calendar 2.0//EN
METHOD:PUBLISH
X-PUBLISHED-TTL:P3D
REFRESH-INTERVAL:P3D
CALSCALE:GREGORIAN
BEGIN:VEVENT
DTSTART:20260404T130000Z
DTEND:20260404T143000Z
X-MICROSOFT-CDO-ALLDAYEVENT:FALSE
SUMMARY:Egg Hunt & Breakfast w/Easter Bunny at YMCA Storer Camps
DESCRIPTION:Hop on over for a morning of family fun! Breakfast\, an egg hunt and photos with the Easter Bunny are all happening at YMCA Storer Camps. Guests of all ages are welcome\, and don't forget to bring your baskets! Breakfast includes pancakes\, scrambled eggs\, bacon\, sausage\, milk\, coffee\, tea and juice. ?? Breakfast begins at 9:00 AM ?? Egg Hunt kicks off promptly at 10:00 AM Entry is $5 per person and covers both breakfast and the egg hunt. Cash and card are accepted at the door. Please RSVP at the following link to help us ensure all our ducks are in a row: https://forms.gle/e7wLysjrpeacGvVe9
X-ALT-DESC;FMTTYPE=text/html:Hop on over for a morning of family fun! Breakfast\, an egg hunt and photos with the Easter Bunny are all happening at YMCA Storer Camps. Guests of all ages are welcome\, and don&rsquo\;t forget to bring your baskets! Breakfast includes pancakes\, scrambled eggs\, bacon\, sausage\, milk\, coffee\, tea and juice. ?? Breakfast begins at 9:00 AM ?? Egg Hunt kicks off promptly at 10:00 AM Entry is $5 per person and covers both breakfast and the egg hunt. Cash and card are accepted at the door. Please RSVP at the following link to help us ensure all our ducks are in a row: https://forms.gle/e7wLysjrpeacGvVe9
LOCATION:YMCA Storer Camps 6941 Stony Lake Rd. Jackson\, MI 49201
UID:e.2641.21285
SEQUENCE:3
DTSTAMP:20260420T085033Z
URL:https://business.irishhills.com/events/details/egg-hunt-breakfast-w-easter-bunny-at-ymca-storer-camps-21285
END:VEVENT

END:VCALENDAR
