BEGIN:VCALENDAR
VERSION:2.0
PRODID:-//ChamberMaster//Event Calendar 2.0//EN
METHOD:PUBLISH
X-PUBLISHED-TTL:P3D
REFRESH-INTERVAL:P3D
CALSCALE:GREGORIAN
BEGIN:VEVENT
DTSTART:20201104T131500Z
DTEND:20201104T173000Z
X-MICROSOFT-CDO-ALLDAYEVENT:FALSE
SUMMARY:Employment Law Workshop--Insight HRM
DESCRIPTION:Our annual Employment Law Workshop is going virtual. Join us for information from expert employment law attorneys:   Critical Legal Challenges involved in Managing Workplaces During the COVID-19 Pandemic   Navigating Staff Reductions and Business Closures during COVID-19   Political Speech in the Workplace During 2020   Other Legislative and Case Law Updates Also\, special guests will present on the topic of Work-Based Learning & Internships HRASM Members Complimentary Admission Non-HRASM Members $30 Registration Fee
X-ALT-DESC;FMTTYPE=text/html:Our annual Employment Law Workshop is going virtual. Join us for information from expert employment law attorneys: &bull\; Critical Legal Challenges involved in Managing Workplaces During the COVID-19 Pandemic &bull\; Navigating Staff Reductions and Business Closures during COVID-19 &bull\; Political Speech in the Workplace During 2020 &bull\; Other Legislative and Case Law Updates Also\, special guests will present on the topic of Work-Based Learning &amp\; Internships HRASM Members Complimentary Admission Non-HRASM Members $30 Registration Fee
LOCATION:https://us02web.zoom.us/webinar/register/WN_JXIoKd-GSNmxFthZcGnAwg
UID:e.2641.13603
SEQUENCE:3
DTSTAMP:20260422T152805Z
URL:https://business.irishhills.com/events/details/employment-law-workshop-insight-hrm-13603
END:VEVENT

END:VCALENDAR
