BEGIN:VCALENDAR
VERSION:2.0
PRODID:-//ChamberMaster//Event Calendar 2.0//EN
METHOD:PUBLISH
X-PUBLISHED-TTL:P3D
REFRESH-INTERVAL:P3D
CALSCALE:GREGORIAN
BEGIN:VEVENT
DTSTART:20241026T180000Z
DTEND:20241026T220000Z
X-MICROSOFT-CDO-ALLDAYEVENT:FALSE
SUMMARY:Family Farm and Home Trick or Treat
DESCRIPTION:Family Farm & Home invites you to Trick-or-Treat with them on October 26th!\n\nAll ages and pets are welcome!
X-ALT-DESC;FMTTYPE=text/html:Family Farm &amp\; Home invites you to Trick-or-Treat with them on October 26th!<br />\nAll ages and pets are welcome!
LOCATION:Family Farm and Home 400 S. Main St. Brooklyn\, MI
UID:e.2641.18641
SEQUENCE:3
DTSTAMP:20260421T050505Z
URL:https://business.irishhills.com/events/details/family-farm-and-home-trick-or-treat-18641
END:VEVENT

END:VCALENDAR
