BEGIN:VCALENDAR
VERSION:2.0
PRODID:-//ChamberMaster//Event Calendar 2.0//EN
METHOD:PUBLISH
X-PUBLISHED-TTL:P3D
REFRESH-INTERVAL:P3D
CALSCALE:GREGORIAN
BEGIN:VEVENT
DTSTART:20200211T223000Z
DTEND:20200212T000000Z
X-MICROSOFT-CDO-ALLDAYEVENT:FALSE
SUMMARY:Galentine's Day at the Sandbar Cafe
DESCRIPTION:Grab a gal pal and join the Sandbar Cafe\, Coffee & Creamery to create a pretty pink vase flower arrangement! All flowers and supplies are included. \n\n\n\nThe Cafe will be offering dinner options and will open at 5:30\, flowers will begin at 6:00. \n\n\n\nClass cost is $35. A square invoice will be emailed to you to be paid online.
X-ALT-DESC;FMTTYPE=text/html:<span style="color: rgb(29\, 33\, 41)\; font-family: Helvetica\, Arial\, sans-serif\; font-size: 14px\; white-space: pre-wrap\; background-color: rgb(255\, 255\, 255)\;">Grab a gal pal and join the Sandbar Cafe\, Coffee &amp\; Creamery to create a pretty pink vase flower arrangement! All flowers and supplies are included. </span><br style="color: rgb(29\, 33\, 41)\; font-family: Helvetica\, Arial\, sans-serif\; font-size: 14px\; white-space: pre-wrap\; background-color: rgb(255\, 255\, 255)\;" />\n<br style="color: rgb(29\, 33\, 41)\; font-family: Helvetica\, Arial\, sans-serif\; font-size: 14px\; white-space: pre-wrap\; background-color: rgb(255\, 255\, 255)\;" />\n<span style="color: rgb(29\, 33\, 41)\; font-family: Helvetica\, Arial\, sans-serif\; font-size: 14px\; white-space: pre-wrap\; background-color: rgb(255\, 255\, 255)\;">The Cafe will be offering dinner options and will open at 5:30\, flowers will begin at 6:00. </span><br style="color: rgb(29\, 33\, 41)\; font-family: Helvetica\, Arial\, sans-serif\; font-size: 14px\; white-space: pre-wrap\; background-color: rgb(255\, 255\, 255)\;" />\n<br style="color: rgb(29\, 33\, 41)\; font-family: Helvetica\, Arial\, sans-serif\; font-size: 14px\; white-space: pre-wrap\; background-color: rgb(255\, 255\, 255)\;" />\n<span style="color: rgb(29\, 33\, 41)\; font-family: Helvetica\, Arial\, sans-serif\; font-size: 14px\; white-space: pre-wrap\; background-color: rgb(255\, 255\, 255)\;">Class cost is $35. A square invoice will be emailed to you to be paid online.</span>
LOCATION:Sandbar Cafe\, Coffee & Creamery 135 Devil's Lake Hwy. Manitou Beach\, MI 49253
UID:e.2641.13218
SEQUENCE:3
DTSTAMP:20260424T053315Z
URL:https://business.irishhills.com/events/details/galentine-s-day-at-the-sandbar-cafe-13218
END:VEVENT

END:VCALENDAR
