BEGIN:VCALENDAR
VERSION:2.0
PRODID:-//ChamberMaster//Event Calendar 2.0//EN
METHOD:PUBLISH
X-PUBLISHED-TTL:P3D
REFRESH-INTERVAL:P3D
CALSCALE:GREGORIAN
BEGIN:VEVENT
DTSTART:20240213T233000Z
DTEND:20240214T010000Z
X-MICROSOFT-CDO-ALLDAYEVENT:FALSE
SUMMARY:Galentine's Floral Wreath Workshop at Cherry Creek Cellars
DESCRIPTION:Grab your gals and get ready to unleash your inner creativity at our Galentine's Dried Floral Wreath Workshop with High Blooms Flower Farm! During this fun and interactive experience at Cherry Creek Cellars\, you'll learn to create a beautiful everlasting dried floral wreath with locally grown dried blooms. This creative and unique workshop is the perfect way to celebrate Galentine's Day with your besties. Don't miss out on this opportunity to make something beautiful and memorable. Tickets for this event are limited.\n\nNo experience necessary\, all materials included in ticket price.\n\n$65 TICKET\n\nRegister online\n\nhttps://highblooms.square.site/.../galentine-s-dried.../5...
X-ALT-DESC;FMTTYPE=text/html:<div class="xdj266r x11i5rnm xat24cr x1mh8g0r x1vvkbs" style="margin: 0px\; overflow-wrap: break-word\; font-family: &quot\;Segoe UI Historic&quot\;\, &quot\;Segoe UI&quot\;\, Helvetica\, Arial\, sans-serif\; color: rgb(5\, 5\, 5)\; font-size: 15px\; background-color: rgb(255\, 255\, 255)\;">Grab your gals and get ready to unleash your inner creativity at our Galentine&#39\;s Dried Floral Wreath Workshop with High Blooms Flower Farm! During this fun and interactive experience at Cherry Creek Cellars\, you&#39\;ll learn to create a beautiful everlasting dried floral wreath with locally grown dried blooms. This creative and unique workshop is the perfect way to celebrate Galentine&#39\;s Day with your besties. Don&#39\;t miss out on this opportunity to make something beautiful and memorable. Tickets for this event are limited.</div>\n\n<div class="x11i5rnm xat24cr x1mh8g0r x1vvkbs xtlvy1s" style="margin: 0.5em 0px 0px\; overflow-wrap: break-word\; font-family: &quot\;Segoe UI Historic&quot\;\, &quot\;Segoe UI&quot\;\, Helvetica\, Arial\, sans-serif\; color: rgb(5\, 5\, 5)\; font-size: 15px\; background-color: rgb(255\, 255\, 255)\;">No experience necessary\, all materials included in ticket price.</div>\n\n<div class="x11i5rnm xat24cr x1mh8g0r x1vvkbs xtlvy1s" style="margin: 0.5em 0px 0px\; overflow-wrap: break-word\; font-family: &quot\;Segoe UI Historic&quot\;\, &quot\;Segoe UI&quot\;\, Helvetica\, Arial\, sans-serif\; color: rgb(5\, 5\, 5)\; font-size: 15px\; background-color: rgb(255\, 255\, 255)\;">$65 TICKET<br />\nRegister online<br />\n<a class="x1i10hfl xjbqb8w x6umtig x1b1mbwd xaqea5y xav7gou x9f619 x1ypdohk xt0psk2 xe8uvvx xdj266r x11i5rnm xat24cr x1mh8g0r xexx8yu x4uap5 x18d9i69 xkhd6sd x16tdsg8 x1hl2dhg xggy1nq x1a2a7pz xt0b8zv x1fey0fg" href="https://highblooms.square.site/product/galentine-s-dried-floral-wreath-workshop-at-cherry-creek/5?cs=true&amp\;cst=custom&amp\;fbclid=IwAR0B-85NhIl4AGPb3I2tTuFzewqAjC4QyHAfGKycgUolEEOVnQOpKyGxZVE" rel="nofollow noreferrer" role="link" style="cursor: pointer\; text-decoration-line: none\; outline: none\; border-width: 0px\; border-style: initial\; border-color: initial\; list-style: none\; margin: 0px\; text-align: inherit\; padding: 0px\; box-sizing: border-box\; background-color: transparent\; -webkit-tap-highlight-color: transparent\; touch-action: manipulation\; display: inline\; font-family: inherit\;" tabindex="0" target="_blank">https://highblooms.square.site/.../galentine-s-dried.../5...</a></div>\n
LOCATION:Cherry Creek Cellars 11500 Silver Lake Hwy. Brooklyn\, MI
UID:e.2641.17364
SEQUENCE:3
DTSTAMP:20260423T085256Z
URL:https://business.irishhills.com/events/details/galentine-s-floral-wreath-workshop-at-cherry-creek-cellars-17364
END:VEVENT

END:VCALENDAR
