BEGIN:VCALENDAR
VERSION:2.0
PRODID:-//ChamberMaster//Event Calendar 2.0//EN
METHOD:PUBLISH
X-PUBLISHED-TTL:P3D
REFRESH-INTERVAL:P3D
CALSCALE:GREGORIAN
BEGIN:VEVENT
DTSTART:20260509T150000Z
DTEND:20260509T190000Z
X-MICROSOFT-CDO-ALLDAYEVENT:FALSE
SUMMARY:Grand Opening Celebration at Grazing Thyme
DESCRIPTION:Join Grazing Thyme as they officially open the doors to celebrate their new location! A space to slow down\, connect and enjoy fresh\, feel-good food -- we cant wait to share it with you!
X-ALT-DESC;FMTTYPE=text/html:<span style="color: rgb(8\, 8\, 9)\; font-family: &quot\;Segoe UI Historic&quot\;\, &quot\;Segoe UI&quot\;\, Helvetica\, Arial\, sans-serif\; font-size: 15px\; background-color: rgb(255\, 255\, 255)\;">Join Grazing Thyme as they officially open the doors to celebrate their new location! A space to slow down\, connect and enjoy fresh\, feel-good food -- we cant wait to share it with you!</span>
LOCATION:168 S. Main St. Brooklyn\, MI
UID:e.2641.21505
SEQUENCE:3
DTSTAMP:20260423T055956Z
URL:https://business.irishhills.com/events/details/grand-opening-celebration-at-grazing-thyme-21505
END:VEVENT

END:VCALENDAR
