BEGIN:VCALENDAR
VERSION:2.0
PRODID:-//ChamberMaster//Event Calendar 2.0//EN
METHOD:PUBLISH
X-PUBLISHED-TTL:P3D
REFRESH-INTERVAL:P3D
CALSCALE:GREGORIAN
BEGIN:VEVENT
DTSTART:20221124T180000Z
DTEND:20221124T210000Z
X-MICROSOFT-CDO-ALLDAYEVENT:FALSE
SUMMARY:Great Thanksgiving Dinner at Irish Hills Eagles
DESCRIPTION:The Irish Hills Eagles will be hosting Thanksgiving Dinner (no to go orders)\n\nDonations welcome- open to the public.
X-ALT-DESC;FMTTYPE=text/html:The Irish Hills Eagles will be hosting Thanksgiving Dinner (no to go orders)<br />\nDonations welcome- open to the public.<br />\n&nbsp\;
LOCATION:Irish Hills Eagles #3689 9500 Wamplers Lake Rd. Brooklyn\, MI
UID:e.2641.15859
SEQUENCE:3
DTSTAMP:20260423T225538Z
URL:https://business.irishhills.com/events/details/great-thanksgiving-dinner-at-irish-hills-eagles-15859
END:VEVENT

END:VCALENDAR
