BEGIN:VCALENDAR
VERSION:2.0
PRODID:-//ChamberMaster//Event Calendar 2.0//EN
METHOD:PUBLISH
X-PUBLISHED-TTL:P3D
REFRESH-INTERVAL:P3D
CALSCALE:GREGORIAN
BEGIN:VEVENT
DTSTART:20240714T190000Z
DTEND:20240714T210000Z
X-MICROSOFT-CDO-ALLDAYEVENT:FALSE
SUMMARY:Harold's Place Spaghetti Dinner Fundraiser
DESCRIPTION:Help us help our Kathy!! Join us Sunday\, July 14\, from 3:00-5:00 for a Spaghetti Dinner Fundraiser!\n\nKathy needs our help to get her prosthesis and get through rehab so she can get back in action!\n\nCome to Harold's and Dine In or call ahead and pick up to take home. Our staff will be volunteering their time and ALL PROCEEDS will go directly to Kathy!!\n\nDinners are $15 each or $20 for all you can eat. All you can eat spaghetti is for dine in only. Price Includes Spaghetti\, Salad\, ONE soft drink or one Coffee\, and garlic bread. Additional drinks\, beer\, wine\, and cocktails available for purchase.\n\nCash is preferred! Feel free to bring her a card and I will be happy to deliver to her! We hope you can join us! Help spread the world!!!
X-ALT-DESC;FMTTYPE=text/html:<div class="xdj266r x11i5rnm xat24cr x1mh8g0r x1vvkbs" style="margin: 0px\; overflow-wrap: break-word\; font-family: &quot\;Segoe UI Historic&quot\;\, &quot\;Segoe UI&quot\;\, Helvetica\, Arial\, sans-serif\; color: rgb(5\, 5\, 5)\; font-size: 15px\; background-color: rgb(255\, 255\, 255)\;">Help us help our Kathy!! Join us Sunday\, July 14\, from 3:00-5:00 for a Spaghetti Dinner Fundraiser!</div>\n\n<div class="x11i5rnm xat24cr x1mh8g0r x1vvkbs xtlvy1s" style="margin: 0.5em 0px 0px\; overflow-wrap: break-word\; font-family: &quot\;Segoe UI Historic&quot\;\, &quot\;Segoe UI&quot\;\, Helvetica\, Arial\, sans-serif\; color: rgb(5\, 5\, 5)\; font-size: 15px\; background-color: rgb(255\, 255\, 255)\;">Kathy needs our help to get her prosthesis and get through rehab so she can get back in action!</div>\n\n<div class="x11i5rnm xat24cr x1mh8g0r x1vvkbs xtlvy1s" style="margin: 0.5em 0px 0px\; overflow-wrap: break-word\; font-family: &quot\;Segoe UI Historic&quot\;\, &quot\;Segoe UI&quot\;\, Helvetica\, Arial\, sans-serif\; color: rgb(5\, 5\, 5)\; font-size: 15px\; background-color: rgb(255\, 255\, 255)\;">Come to Harold&rsquo\;s and Dine In or call ahead and pick up to take home. Our staff will be volunteering their time and ALL PROCEEDS will go directly to Kathy!!</div>\n\n<div class="x11i5rnm xat24cr x1mh8g0r x1vvkbs xtlvy1s" style="margin: 0.5em 0px 0px\; overflow-wrap: break-word\; font-family: &quot\;Segoe UI Historic&quot\;\, &quot\;Segoe UI&quot\;\, Helvetica\, Arial\, sans-serif\; color: rgb(5\, 5\, 5)\; font-size: 15px\; background-color: rgb(255\, 255\, 255)\;">Dinners are $15 each or $20 for all you can eat. All you can eat spaghetti is for dine in only. Price Includes Spaghetti\, Salad\, ONE soft drink or one Coffee\, and garlic bread. Additional drinks\, beer\, wine\, and cocktails available for purchase.</div>\n\n<div class="x11i5rnm xat24cr x1mh8g0r x1vvkbs xtlvy1s" style="margin: 0.5em 0px 0px\; overflow-wrap: break-word\; font-family: &quot\;Segoe UI Historic&quot\;\, &quot\;Segoe UI&quot\;\, Helvetica\, Arial\, sans-serif\; color: rgb(5\, 5\, 5)\; font-size: 15px\; background-color: rgb(255\, 255\, 255)\;">Cash is preferred! Feel free to bring her a card and I will be happy to deliver to her! We hope you can join us! Help spread the world!!!</div>\n
LOCATION:Harold's Place 10625 US 12 Brooklyn\, MI
UID:e.2641.18329
SEQUENCE:3
DTSTAMP:20260425T133619Z
URL:https://business.irishhills.com/events/details/harold-s-place-spaghetti-dinner-fundraiser-18329
END:VEVENT

END:VCALENDAR
