BEGIN:VCALENDAR
VERSION:2.0
PRODID:-//ChamberMaster//Event Calendar 2.0//EN
METHOD:PUBLISH
X-PUBLISHED-TTL:P3D
REFRESH-INTERVAL:P3D
CALSCALE:GREGORIAN
BEGIN:VEVENT
DTSTART:20191207T170000Z
DTEND:20191207T200000Z
X-MICROSOFT-CDO-ALLDAYEVENT:FALSE
SUMMARY:Healthy Holidays in the Hills at Sacred Touch Healing Arts Center
DESCRIPTION:Waxing\, Crystal bed\, Young Living Oil Make 'N Take\, Mini Acupuncture\, & chair massages.
X-ALT-DESC;FMTTYPE=text/html:Waxing\, Crystal bed\, Young Living Oil Make &#39\;N Take\, Mini Acupuncture\, &amp\; chair massages.<br />\n&nbsp\;
LOCATION:Sacred Touch Healing Arts Center 11999 Brooklyn Rd. Brooklyn\, MI 49230
UID:e.2641.13083
SEQUENCE:3
DTSTAMP:20260423T183837Z
URL:https://business.irishhills.com/events/details/healthy-holidays-in-the-hills-at-sacred-touch-healing-arts-center-13083
END:VEVENT

END:VCALENDAR
