BEGIN:VCALENDAR
VERSION:2.0
PRODID:-//ChamberMaster//Event Calendar 2.0//EN
METHOD:PUBLISH
X-PUBLISHED-TTL:P3D
REFRESH-INTERVAL:P3D
CALSCALE:GREGORIAN
BEGIN:VEVENT
DTSTART:20201031T200000Z
DTEND:20201031T220000Z
X-MICROSOFT-CDO-ALLDAYEVENT:FALSE
SUMMARY:Heart O the Lakes Church Trunk or Treat
DESCRIPTION:The church parking lot will be lined with trunks full of candy just for YOU! Get the kids dressed up (or not) jump in the car and drive thru for some HOTLween fun!
X-ALT-DESC;FMTTYPE=text/html:The church parking lot will be lined with trunks full of candy just for YOU! Get the kids dressed up (or not) jump in the car and drive thru for some HOTLween fun!&nbsp\;
LOCATION:Heart O' the Lakes Church 7031 Jefferson Rd. Brooklyn\, MI 49230
UID:e.2641.13610
SEQUENCE:3
DTSTAMP:20260423T112400Z
URL:https://business.irishhills.com/events/details/heart-o-the-lakes-church-trunk-or-treat-13610
END:VEVENT

END:VCALENDAR
