BEGIN:VCALENDAR
VERSION:2.0
PRODID:-//ChamberMaster//Event Calendar 2.0//EN
METHOD:PUBLISH
X-PUBLISHED-TTL:P3D
REFRESH-INTERVAL:P3D
CALSCALE:GREGORIAN
BEGIN:VEVENT
DTSTART:20191207T210000Z
DTEND:20191208T010000Z
X-MICROSOFT-CDO-ALLDAYEVENT:FALSE
SUMMARY:Holiday Festival at Hidden Lake Gardens
DESCRIPTION:Enjoy live musical entertainment\, children's crafts\, and visit with Santa Claus in the visitors center. Observe lighted displays in the conservatory and drive through the many candle lit luminary displays.\n\nCost: $7 per person\, ($25 per vehicle max) or free for HLG members.
X-ALT-DESC;FMTTYPE=text/html:Enjoy live musical entertainment\, children&#39\;s crafts\, and visit with Santa Claus in the visitors center. Observe lighted displays in the conservatory and drive through the many candle lit luminary displays.<br />\nCost: $7 per person\, ($25 per vehicle max) or free for HLG members.
LOCATION:Hidden Lake Gardens 6214 M50 Tipton\, MI 49287
UID:e.2641.13005
SEQUENCE:3
DTSTAMP:20260423T183632Z
URL:https://business.irishhills.com/events/details/holiday-festival-at-hidden-lake-gardens-13005
END:VEVENT

END:VCALENDAR
