BEGIN:VCALENDAR
VERSION:2.0
PRODID:-//ChamberMaster//Event Calendar 2.0//EN
METHOD:PUBLISH
X-PUBLISHED-TTL:P3D
REFRESH-INTERVAL:P3D
CALSCALE:GREGORIAN
BEGIN:VEVENT
DTSTART;VALUE=DATE:20191206
DTEND;VALUE=DATE:20191209
TRANSP:TRANSPARENT
X-MICROSOFT-CDO-ALLDAYEVENT:TRUE
SUMMARY:Holidays in the Hills
DESCRIPTION:Holidays in the Hills\n\nOn the weekend of December 6th through 8th\, many Irish Hills organizations and businesses will be participating in the Holidays in the Hills\, and entire weekend filled with things to do.\n\n\n\nwww.irishhills.com\\experience\n\n \n\nExperience a weekend full of holiday joy and festivities including a charity track drive at Michigan International Speedway\, Santa visits\,  drive through Christmas light shows\, a gala\, craft show\, lots of holiday shopping with specials\, a festival\, open houses\, and so much more.
X-ALT-DESC;FMTTYPE=text/html:<span style="font-family: comic sans ms\;"><span style="color: rgb(0\, 0\, 255)\;"><span style="font-size: 18px\;"><strong>Holidays in the Hills</strong></span></span></span><br />\n<strong>On the weekend of December 6th through 8th\, many Irish Hills organizations and businesses will be participating in the Holidays in the Hills\, and entire weekend filled with things to do.</strong><br />\n<br />\n<a href="http://www.irishhills.com/experience" style="font-size: 22px\;"><strong><span style="color: rgb(255\, 0\, 0)\;"><span style="font-family: &quot\;courier new&quot\;\;"><span style="font-size: 20px\;">www.irishhills.com\\experience</span></span></span></strong></a><br />\n<strong>&nbsp\;<br />\nExperience a weekend full of holiday joy and festivities including a charity track drive at Michigan International Speedway\, Santa visits\, &nbsp\;drive through Christmas light shows\, a gala\, craft show\, lots of holiday shopping with specials\, a festival\, open houses\, and so much more.</strong><br />\n<br />\n<span style="font-size:22px\;"><a href="http://www.irishhills.com/experience"><strong><span style="color:#FF0000\;"><span style="font-family:courier new\;">&nbsp\;</span></span></strong></a></span>
LOCATION:Throughout the Irish Hills
UID:e.2641.11932
SEQUENCE:3
DTSTAMP:20260423T170736Z
URL:https://business.irishhills.com/events/details/holidays-in-the-hills-11932
END:VEVENT

END:VCALENDAR
