BEGIN:VCALENDAR
VERSION:2.0
PRODID:-//ChamberMaster//Event Calendar 2.0//EN
METHOD:PUBLISH
X-PUBLISHED-TTL:P3D
REFRESH-INTERVAL:P3D
CALSCALE:GREGORIAN
BEGIN:VEVENT
DTSTART:20200413T140000Z
DTEND:20200413T190000Z
X-MICROSOFT-CDO-ALLDAYEVENT:FALSE
SUMMARY:Homeschoolers Day at YMCA Storer Camps
DESCRIPTION:An adventurous day planned especially with home school families in mind. Experience all that the Outdoor Education Program has to offer as families explore and learn through the hands-on activities. Students must attend with an adult.\n\nEnjoy activities such as: fire building\, shelter building\, STEM activities\, nature crafts\, reptile room\, pony rides and more!
X-ALT-DESC;FMTTYPE=text/html:An adventurous day planned especially with home school families in mind. Experience all that the Outdoor Education Program has to offer as families explore and learn through the hands-on activities. Students must attend with an adult.<br />\nEnjoy activities such as: fire building\, shelter building\, STEM activities\, nature crafts\, reptile room\, pony rides and more!
LOCATION:YMCA Storer Camps 6941 Stoney Lake Rd. Jackson\, MI 49201
UID:e.2641.13275
SEQUENCE:3
DTSTAMP:20260421T220901Z
URL:https://business.irishhills.com/events/details/homeschoolers-day-at-ymca-storer-camps-13275
END:VEVENT

END:VCALENDAR
