BEGIN:VCALENDAR
VERSION:2.0
PRODID:-//ChamberMaster//Event Calendar 2.0//EN
METHOD:PUBLISH
X-PUBLISHED-TTL:P3D
REFRESH-INTERVAL:P3D
CALSCALE:GREGORIAN
BEGIN:VEVENT
DTSTART:20210120T163000Z
DTEND:20210120T190000Z
X-MICROSOFT-CDO-ALLDAYEVENT:FALSE
SUMMARY:Human Resource Association of Southeast Michigan Motivational Speaker
DESCRIPTION:Motivational Speaker\, Matt Jones\n\n3 Time Cancer Conqueror to 8 continent Marathon Man\n\nWebinar starts at 11:30am
X-ALT-DESC;FMTTYPE=text/html:Motivational Speaker\, Matt Jones<br />\n3 Time Cancer Conqueror to 8 continent Marathon Man<br />\nWebinar starts at 11:30am
LOCATION:
UID:e.2641.13840
SEQUENCE:3
DTSTAMP:20260420T024644Z
URL:https://business.irishhills.com/events/details/human-resource-association-of-southeast-michigan-motivational-speaker-13840
END:VEVENT

END:VCALENDAR
