BEGIN:VCALENDAR
VERSION:2.0
PRODID:-//ChamberMaster//Event Calendar 2.0//EN
METHOD:PUBLISH
X-PUBLISHED-TTL:P3D
REFRESH-INTERVAL:P3D
CALSCALE:GREGORIAN
BEGIN:VEVENT
DTSTART:20190912T213000Z
DTEND:20190912T230000Z
X-MICROSOFT-CDO-ALLDAYEVENT:FALSE
SUMMARY:Interpreting Your Photographic Reference at Kate's Art School
DESCRIPTION:This class for the beginner and intermediate. This weekly painting class will offer students the opportunity to work from their own photographic reference. The topics of drawing\, values\, color\, design\, technique\, paint mixing\, tools\, materials and paint application will be addressed. Students are welcome to work in acrylic or pastel. No prior art experience needed.
X-ALT-DESC;FMTTYPE=text/html:This class for the beginner and intermediate. This weekly painting class will offer students the opportunity to work from their own photographic reference. The topics of drawing\, values\, color\, design\, technique\, paint mixing\, tools\, materials and paint application will be addressed. Students are welcome to work in acrylic or pastel. No prior art experience needed.
LOCATION:Kate's Art School 250 S. Main Street\, Brooklyn
UID:e.2641.12658
SEQUENCE:3
DTSTAMP:20260423T183251Z
URL:https://business.irishhills.com/events/details/interpreting-your-photographic-reference-at-kate-s-art-school-12658
END:VEVENT

END:VCALENDAR
