BEGIN:VCALENDAR
VERSION:2.0
PRODID:-//ChamberMaster//Event Calendar 2.0//EN
METHOD:PUBLISH
X-PUBLISHED-TTL:P3D
REFRESH-INTERVAL:P3D
CALSCALE:GREGORIAN
BEGIN:VEVENT
DTSTART;VALUE=DATE:20191130
DTEND;VALUE=DATE:20191208
TRANSP:TRANSPARENT
X-MICROSOFT-CDO-ALLDAYEVENT:TRUE
SUMMARY:Irish Hills Christmas Crawl
DESCRIPTION:Pick up your "Christmas List" at the Chamber office or any participating business. Make any purchase at participating businesses to have them cross that location off of your list. The more you cross off\, the better your chances to win the grand prize. Grand prize winner will receive CASH! Partially finished lists will be entered to win a consolation prize.
X-ALT-DESC;FMTTYPE=text/html:Pick up your &quot\;Christmas List&quot\; at the Chamber office or any participating business. Make any purchase at participating businesses to have them cross that location off of your list. The more you cross off\, the better your chances to win the grand prize. Grand prize winner will receive CASH! Partially finished lists will be entered to win a consolation prize.&nbsp\;
LOCATION:Throughout the Irish Hills
UID:e.2641.12996
SEQUENCE:3
DTSTAMP:20260424T174003Z
URL:https://business.irishhills.com/events/details/irish-hills-christmas-crawl-12996
END:VEVENT

END:VCALENDAR
