BEGIN:VCALENDAR
VERSION:2.0
PRODID:-//ChamberMaster//Event Calendar 2.0//EN
METHOD:PUBLISH
X-PUBLISHED-TTL:P3D
REFRESH-INTERVAL:P3D
CALSCALE:GREGORIAN
BEGIN:VEVENT
DTSTART:20231126T130000Z
DTEND:20231126T170000Z
X-MICROSOFT-CDO-ALLDAYEVENT:FALSE
SUMMARY:Irish Hills Eagles All You Can Eat Breakfast
DESCRIPTION:All you can eat breakfast at the Irish Hills Eagles.\n\nOpen to the public.
X-ALT-DESC;FMTTYPE=text/html:All you can eat breakfast at the Irish Hills Eagles.<br />\nOpen to the public.<br />\n<br />\n&nbsp\;
LOCATION:Irish Hills Eagles 9500 Wamplers Lake Rd. Brooklyn\, MI
UID:e.2641.16996
SEQUENCE:3
DTSTAMP:20260423T233515Z
URL:https://business.irishhills.com/events/details/irish-hills-eagles-all-you-can-eat-breakfast-16996
END:VEVENT

END:VCALENDAR
