BEGIN:VCALENDAR
VERSION:2.0
PRODID:-//ChamberMaster//Event Calendar 2.0//EN
METHOD:PUBLISH
X-PUBLISHED-TTL:P3D
REFRESH-INTERVAL:P3D
CALSCALE:GREGORIAN
BEGIN:VEVENT
DTSTART:20221119T220000Z
DTEND:20221120T010000Z
X-MICROSOFT-CDO-ALLDAYEVENT:FALSE
SUMMARY:Irish Hills Eagles Annual Soup Cook Off
DESCRIPTION:Soup cook off contest!
X-ALT-DESC;FMTTYPE=text/html:Soup cook off contest!&nbsp\;
LOCATION:Irish Hills Eagles 9500 Wamplers Lake Rd. Brooklyn\, MI
UID:e.2641.15852
SEQUENCE:3
DTSTAMP:20260423T224831Z
URL:https://business.irishhills.com/events/details/irish-hills-eagles-annual-soup-cook-off-15852
END:VEVENT

END:VCALENDAR
