BEGIN:VCALENDAR
VERSION:2.0
PRODID:-//ChamberMaster//Event Calendar 2.0//EN
METHOD:PUBLISH
X-PUBLISHED-TTL:P3D
REFRESH-INTERVAL:P3D
CALSCALE:GREGORIAN
BEGIN:VEVENT
DTSTART:20190622T140000Z
DTEND:20190622T230000Z
X-MICROSOFT-CDO-ALLDAYEVENT:FALSE
SUMMARY:Irish Hills Lake & Home Tour
DESCRIPTION:Join us for a tour of SIX of the top Irish Hills Lakes FROM the lakeside on a pontoon.  Presale wristbands are only $10 each online (you will receive a map with your purchase)\n\nPlease click this link to dowload the map and purchase your wristband for  $15 at any of our SIX lakes Saturday\, June 22 from the sponsoring realtor at the lake!\n\n\n\nTHIS EVENT WILL HAPPEN\, RAIN OR SHINE.  PLEASE WATCH OUR FACEBOOK PAGE FOR UPDATES.  WE WILL ONLY CANCEL IF THERE IS LIGHTNING.
X-ALT-DESC;FMTTYPE=text/html:<strong>Join us for a tour of&nbsp\;SIX of the top Irish Hills Lakes FROM the lakeside on a pontoon.&nbsp\; Presale wristbands are only $10 each online (you will receive a map with your purchase)</strong><br />\nPlease&nbsp\;<a href="https://chambermaster.blob.core.windows.net/userfiles/UserFiles/chambers/2641/File/IHLakeHomeGPSMap.pdf">click this link </a>to dowload the map and purchase your wristband for&nbsp\;&nbsp\;$15 at any of our&nbsp\;SIX lakes Saturday\, June 22 from the sponsoring realtor at the lake!<br />\n<br />\nTHIS EVENT WILL HAPPEN\, RAIN OR SHINE.&nbsp\; PLEASE WATCH OUR FACEBOOK PAGE FOR UPDATES.&nbsp\; WE WILL ONLY CANCEL IF THERE IS LIGHTNING.&nbsp\;
LOCATION:Choose which lakes you would like to see this year! Choose from: Lake Columbia\, Clark Lake\, Devils Lake\, Lake Somerset \, Lake Leann\, and Wamplers Lake.
UID:e.2641.11929
SEQUENCE:3
DTSTAMP:20260420T135325Z
URL:https://business.irishhills.com/events/details/irish-hills-lake-home-tour-11929
END:VEVENT

END:VCALENDAR
