BEGIN:VCALENDAR
VERSION:2.0
PRODID:-//ChamberMaster//Event Calendar 2.0//EN
METHOD:PUBLISH
X-PUBLISHED-TTL:P3D
REFRESH-INTERVAL:P3D
CALSCALE:GREGORIAN
BEGIN:VEVENT
DTSTART;VALUE=DATE:20251026
DTEND;VALUE=DATE:20251031
TRANSP:TRANSPARENT
X-MICROSOFT-CDO-ALLDAYEVENT:TRUE
SUMMARY:Irish Hills Restaurant Week
DESCRIPTION:Join us for Irish Hills Restaurant Week!\n\n\n\nOur participating Irish Hills restaurants will be featuring a specialty menu during the week of October 26 through 30 with items under $15!  \n\n\n\nDiscover some of our hidden gems or stop in one of your favorites to try something new!
X-ALT-DESC;FMTTYPE=text/html:Join us for Irish Hills Restaurant Week!<br />\n<br />\nOur participating Irish Hills restaurants will be featuring a specialty menu during the week of October 26 through 30 with items under $15!&nbsp\;&nbsp\;<br />\n<br />\nDiscover some of our hidden gems or stop in one of your favorites to try something new!
LOCATION:Irish Hills\, Michigan
UID:e.2641.19227
SEQUENCE:3
DTSTAMP:20260422T082334Z
URL:https://business.irishhills.com/events/details/irish-hills-restaurant-week-19227
END:VEVENT

END:VCALENDAR
