BEGIN:VCALENDAR
VERSION:2.0
PRODID:-//ChamberMaster//Event Calendar 2.0//EN
METHOD:PUBLISH
X-PUBLISHED-TTL:P3D
REFRESH-INTERVAL:P3D
CALSCALE:GREGORIAN
BEGIN:VEVENT
DTSTART:20201128T150000Z
DTEND:20201128T190000Z
X-MICROSOFT-CDO-ALLDAYEVENT:FALSE
SUMMARY:Jackson Symphony Orchestra Pop Up Shop
DESCRIPTION:On Small Business Saturday join the fun and save 20% on baskets at the Jackson Symphony Guild's Pop Up Shop. Unsold items will be in the online auction beginning 11/30 for full value.\n\nLearn more about the Virtual Holiday Ball and auction at\n\nbidpal.net/jsgholidayball2020\n\nor TEXT JSGholidayball to 243725
X-ALT-DESC;FMTTYPE=text/html:<div class="kvgmc6g5 cxmmr5t8 oygrvhab hcukyx3x c1et5uql" style="overflow-wrap: break-word\; margin: 0px\; font-family: &quot\;Segoe UI Historic&quot\;\, &quot\;Segoe UI&quot\;\, Helvetica\, Arial\, sans-serif\; color: rgb(5\, 5\, 5)\; font-size: 15px\; background-color: rgb(255\, 255\, 255)\;">On Small Business Saturday join the fun and save 20% on baskets at the Jackson Symphony Guild&#39\;s Pop Up Shop. Unsold items will be in the online auction beginning 11/30 for full value.</div>\n\n<div class="o9v6fnle cxmmr5t8 oygrvhab hcukyx3x c1et5uql" style="overflow-wrap: break-word\; margin: 0.5em 0px 0px\; font-family: &quot\;Segoe UI Historic&quot\;\, &quot\;Segoe UI&quot\;\, Helvetica\, Arial\, sans-serif\; color: rgb(5\, 5\, 5)\; font-size: 15px\; background-color: rgb(255\, 255\, 255)\;">Learn more about the Virtual Holiday Ball and auction at<br />\n<a class="oajrlxb2 g5ia77u1 qu0x051f esr5mh6w e9989ue4 r7d6kgcz rq0escxv nhd2j8a9 nc684nl6 p7hjln8o kvgmc6g5 cxmmr5t8 oygrvhab hcukyx3x jb3vyjys rz4wbd8a qt6c0cv9 a8nywdso i1ao9s8h esuyzwwr f1sip0of lzcic4wl py34i1dx gpro0wi8" href="http://bidpal.net/jsgholidayball2020?fbclid=IwAR0nyVwV-6frRGHen_fjuXroVe2th8Z_V8N9njcmtyd9dl35LnEWFw38GW8" rel="nofollow noopener" role="link" style="cursor: pointer\; text-decoration-line: none\; outline: none\; list-style: none\; border-width: 0px\; border-style: initial\; border-color: initial\; padding: 0px\; margin: 0px\; touch-action: manipulation\; background-color: transparent\; text-align: inherit\; display: inline\; -webkit-tap-highlight-color: transparent\; box-sizing: border-box\; font-family: inherit\;" tabindex="0" target="_blank">bidpal.net/jsgholidayball2020</a><br />\nor TEXT JSGholidayball to 243725</div>\n
LOCATION:
UID:e.2641.13776
SEQUENCE:3
DTSTAMP:20260422T100315Z
URL:https://business.irishhills.com/events/details/jackson-symphony-orchestra-pop-up-shop-13776
END:VEVENT

END:VCALENDAR
