BEGIN:VCALENDAR
VERSION:2.0
PRODID:-//ChamberMaster//Event Calendar 2.0//EN
METHOD:PUBLISH
X-PUBLISHED-TTL:P3D
REFRESH-INTERVAL:P3D
CALSCALE:GREGORIAN
BEGIN:VEVENT
DTSTART:20220311T000000Z
DTEND:20220311T030000Z
X-MICROSOFT-CDO-ALLDAYEVENT:FALSE
SUMMARY:Karaoke Night at Shady's TapRoom
DESCRIPTION:Every Thursday night at Shady's TapRoom\n\nKaraoke with DJ Ray Ray
X-ALT-DESC;FMTTYPE=text/html:Every Thursday night at Shady&#39\;s TapRoom<br />\nKaraoke with DJ Ray Ray
LOCATION:Shady's TapRoom 110 N. Main St. Brooklyn\, MI
UID:e.2641.14857
SEQUENCE:3
DTSTAMP:20260420T074723Z
URL:https://business.irishhills.com/events/details/karaoke-night-at-shady-s-taproom-03-10-2022-14857
END:VEVENT

END:VCALENDAR
