BEGIN:VCALENDAR
VERSION:2.0
PRODID:-//ChamberMaster//Event Calendar 2.0//EN
METHOD:PUBLISH
X-PUBLISHED-TTL:P3D
REFRESH-INTERVAL:P3D
CALSCALE:GREGORIAN
BEGIN:VEVENT
DTSTART:20191206T150000Z
DTEND:20191206T230000Z
X-MICROSOFT-CDO-ALLDAYEVENT:FALSE
SUMMARY:Kelsey's Boutique & Gifts
DESCRIPTION:Check out Kelsey's Boutique red bow sale &\n\nRefreshments
X-ALT-DESC;FMTTYPE=text/html:Check out Kelsey&#39\;s Boutique red bow sale &amp\;<br />\nRefreshments&nbsp\;
LOCATION:Kelsey's Boutique and Gifts 122 N. Main St. Brooklyn\, MI 49230
UID:e.2641.13084
SEQUENCE:3
DTSTAMP:20260423T183356Z
URL:https://business.irishhills.com/events/details/kelsey-s-boutique-gifts-13084
END:VEVENT

END:VCALENDAR
