BEGIN:VCALENDAR
VERSION:2.0
PRODID:-//ChamberMaster//Event Calendar 2.0//EN
METHOD:PUBLISH
X-PUBLISHED-TTL:P3D
REFRESH-INTERVAL:P3D
CALSCALE:GREGORIAN
BEGIN:VEVENT
DTSTART:20260502T210000Z
DTEND:20260503T020000Z
X-MICROSOFT-CDO-ALLDAYEVENT:FALSE
SUMMARY:Kentucky Derby Watch Party at Irish Hills Eagles 3689
DESCRIPTION:Come to the Irish Hills Eagles 3689 for the Kentucky Derby watch party.\n\nThere will be a hat contest\n\n50/50\n\nRaffles\n\nBring an appetizer for all to enjoy!
X-ALT-DESC;FMTTYPE=text/html:Come to the Irish Hills Eagles 3689 for the Kentucky Derby watch party.<br />\nThere will be a hat contest<br />\n50/50<br />\nRaffles<br />\nBring an appetizer for all to enjoy!
LOCATION:Irish Hills Eagles 3689 9500 Wamplers Lake Rd. Brooklyn\, MI
UID:e.2641.21470
SEQUENCE:3
DTSTAMP:20260423T062315Z
URL:https://business.irishhills.com/events/details/kentucky-derby-watch-party-at-irish-hills-eagles-3689-21470
END:VEVENT

END:VCALENDAR
