BEGIN:VCALENDAR
VERSION:2.0
PRODID:-//ChamberMaster//Event Calendar 2.0//EN
METHOD:PUBLISH
X-PUBLISHED-TTL:P3D
REFRESH-INTERVAL:P3D
CALSCALE:GREGORIAN
BEGIN:VEVENT
DTSTART;VALUE=DATE:20240719
DTEND;VALUE=DATE:20240722
TRANSP:TRANSPARENT
X-MICROSOFT-CDO-ALLDAYEVENT:TRUE
SUMMARY:Killarney Lutheran Camp Adult Retreat
DESCRIPTION:ALWAYS THANKFUL\n\nThrough various Bible passages and activities\, we will look at what God says about the 7 gifts we are always to be thankful for. 18 years and older individuals will look at the 7 gifts\n\nJuly 19-21\, 2024 - Register by July 3\, 2024\n\nCamp for the weekend or join us for the day.\n\nFriday Social\; Saturday program and activities (lunch and dinner provided)\;\n\nSunday wrap up\n\nTo register\, please complete the information on the following Google form: ALWAYS THANKFUL Registration
X-ALT-DESC;FMTTYPE=text/html:<p class="ml-5 mr-5" style="box-sizing: border-box\; margin-top: 0px\; margin-bottom: 1rem\; color: rgb(33\, 37\, 41)\; font-family: -apple-system\, BlinkMacSystemFont\, &quot\;Segoe UI&quot\;\, Roboto\, &quot\;Helvetica Neue&quot\;\, Arial\, &quot\;Noto Sans&quot\;\, sans-serif\, &quot\;Apple Color Emoji&quot\;\, &quot\;Segoe UI Emoji&quot\;\, &quot\;Segoe UI Symbol&quot\;\, &quot\;Noto Color Emoji&quot\;\; font-size: 16px\; text-align: center\; margin-right: 3rem !important\; margin-left: 3rem !important\;"><span style="box-sizing: border-box\; font-size: 18pt\;"><span style="box-sizing: border-box\; font-weight: bolder\;">ALWAYS THANKFUL</span></span></p>\n\n<p class="ml-5 mr-5" style="box-sizing: border-box\; margin-top: 0px\; margin-bottom: 1rem\; color: rgb(33\, 37\, 41)\; font-family: -apple-system\, BlinkMacSystemFont\, &quot\;Segoe UI&quot\;\, Roboto\, &quot\;Helvetica Neue&quot\;\, Arial\, &quot\;Noto Sans&quot\;\, sans-serif\, &quot\;Apple Color Emoji&quot\;\, &quot\;Segoe UI Emoji&quot\;\, &quot\;Segoe UI Symbol&quot\;\, &quot\;Noto Color Emoji&quot\;\; font-size: 16px\; text-align: center\; margin-right: 3rem !important\; margin-left: 3rem !important\;">Through various Bible passages and activities\, we will look at what&nbsp\;God says about the 7 gifts we are always to be thankful for.&nbsp\;18 years and older individuals will look at the 7 gifts</p>\n\n<p class="ml-5 mr-5" style="box-sizing: border-box\; margin-top: 0px\; margin-bottom: 1rem\; color: rgb(33\, 37\, 41)\; font-family: -apple-system\, BlinkMacSystemFont\, &quot\;Segoe UI&quot\;\, Roboto\, &quot\;Helvetica Neue&quot\;\, Arial\, &quot\;Noto Sans&quot\;\, sans-serif\, &quot\;Apple Color Emoji&quot\;\, &quot\;Segoe UI Emoji&quot\;\, &quot\;Segoe UI Symbol&quot\;\, &quot\;Noto Color Emoji&quot\;\; font-size: 16px\; text-align: center\; margin-right: 3rem !important\; margin-left: 3rem !important\;"><span style="box-sizing: border-box\; font-weight: bolder\;">July 19-21\, 2024 - Register by July 3\, 2024</span><br style="box-sizing: border-box\;" />\nCamp for the weekend or join us for the day.<br style="box-sizing: border-box\;" />\nFriday Social\; Saturday program and activities (lunch and dinner provided)\;<br style="box-sizing: border-box\;" />\nSunday wrap up</p>\n\n<p class="ml-5 mr-5" style="box-sizing: border-box\; margin-top: 0px\; margin-bottom: 1rem\; color: rgb(33\, 37\, 41)\; font-family: -apple-system\, BlinkMacSystemFont\, &quot\;Segoe UI&quot\;\, Roboto\, &quot\;Helvetica Neue&quot\;\, Arial\, &quot\;Noto Sans&quot\;\, sans-serif\, &quot\;Apple Color Emoji&quot\;\, &quot\;Segoe UI Emoji&quot\;\, &quot\;Segoe UI Symbol&quot\;\, &quot\;Noto Color Emoji&quot\;\; font-size: 16px\; margin-right: 3rem !important\; margin-left: 3rem !important\;">To register\, please complete the information on the following Google form:&nbsp\;<a data-saferedirecturl="https://www.google.com/url?q=https://forms.gle/cA9NaGhCMTTiq794A&amp\;source=gmail&amp\;ust=1643659573609000&amp\;usg=AOvVaw33jlbVaDhk6vWIFyxunqqN" href="https://forms.gle/LW1xSPK3bGAKGwvRA" style="box-sizing: border-box\; color: rgb(0\, 123\, 255)\; text-decoration-line: none\; background-color: transparent\;" target="_blank">ALWAYS THANKFUL Registration</a>&nbsp\;</p>\n
LOCATION:1200 Chisholm Rd\, Onsted\, MI\, United States\, Michigan
UID:e.2641.18033
SEQUENCE:3
DTSTAMP:20260420T060648Z
URL:https://business.irishhills.com/events/details/killarney-lutheran-camp-adult-retreat-18033
END:VEVENT

END:VCALENDAR
