BEGIN:VCALENDAR
VERSION:2.0
PRODID:-//ChamberMaster//Event Calendar 2.0//EN
METHOD:PUBLISH
X-PUBLISHED-TTL:P3D
REFRESH-INTERVAL:P3D
CALSCALE:GREGORIAN
BEGIN:VEVENT
DTSTART:20211023T230000Z
DTEND:20211025T020000Z
X-MICROSOFT-CDO-ALLDAYEVENT:FALSE
SUMMARY:Live Entertainment at Shady's Tap Room
DESCRIPTION:Featuring Marvin Rieli
X-ALT-DESC;FMTTYPE=text/html:Featuring Marvin Rieli<br />\n&nbsp\;
LOCATION:Shady's Tap Room 110 N. Main St. Brooklyn\, MI 49230
UID:e.2641.14491
SEQUENCE:3
DTSTAMP:20260421T143039Z
URL:https://business.irishhills.com/events/details/live-entertainment-at-shady-s-tap-room-14491
END:VEVENT

END:VCALENDAR
