BEGIN:VCALENDAR
VERSION:2.0
PRODID:-//ChamberMaster//Event Calendar 2.0//EN
METHOD:PUBLISH
X-PUBLISHED-TTL:P3D
REFRESH-INTERVAL:P3D
CALSCALE:GREGORIAN
BEGIN:VEVENT
DTSTART:20211016T220000Z
DTEND:20211017T010000Z
X-MICROSOFT-CDO-ALLDAYEVENT:FALSE
SUMMARY:Live Music at The Winery North of 12
DESCRIPTION:Josh Silas to perform.
X-ALT-DESC;FMTTYPE=text/html:<div class="kvgmc6g5 cxmmr5t8 oygrvhab hcukyx3x c1et5uql" style="overflow-wrap: break-word\; margin: 0px\; font-family: inherit\;">\n<div>Josh Silas to perform.<br />\n&nbsp\;</div>\n</div>\n
LOCATION:The Winery North of 12 12775 Knapp Rd. Brooklyn\, MI 49230
UID:e.2641.14517
SEQUENCE:3
DTSTAMP:20260420T085954Z
URL:https://business.irishhills.com/events/details/live-music-at-the-winery-north-of-12-14517
END:VEVENT

END:VCALENDAR
