BEGIN:VCALENDAR
VERSION:2.0
PRODID:-//ChamberMaster//Event Calendar 2.0//EN
METHOD:PUBLISH
X-PUBLISHED-TTL:P3D
REFRESH-INTERVAL:P3D
CALSCALE:GREGORIAN
BEGIN:VEVENT
DTSTART:20200808T120000Z
DTEND:20200808T160000Z
X-MICROSOFT-CDO-ALLDAYEVENT:FALSE
SUMMARY:Manitou Beach Farmers Market
DESCRIPTION:Fresh produce\, homemade baked goods and handmade crafts.\n\nYou'll also find one-way traffic patterns\, more social distancing\, hand sanitizer stations\, masks and other safety measures. Manitou Beach Farmers Market strongly encourages you to follow guidelines\, be kind & safe\, and have a great time!!!
X-ALT-DESC;FMTTYPE=text/html:<p style="margin: 0px 0px 6px\; font-family: Helvetica\, Arial\, sans-serif\; color: rgb(28\, 30\, 33)\; font-size: 14px\;">Fresh produce\, homemade baked goods and handmade crafts.</p>\n\n<p style="margin: 6px 0px 0px\; display: inline\; font-family: Helvetica\, Arial\, sans-serif\; color: rgb(28\, 30\, 33)\; font-size: 14px\;">You&#39\;ll also find one-way traffic patterns\, more social distancing\, hand sanitizer stations\, masks and other safety measures. Manitou Beach Farmers Market&nbsp\;strongly encourages you to follow guidelines\, be kind &amp\; safe\, and have a great time!!!</p>\n
LOCATION:Large boat barn at the corner of Devils Lake Hwy & Manitou Beach Rd
UID:e.2641.13418
SEQUENCE:3
DTSTAMP:20260420T153943Z
URL:https://business.irishhills.com/events/details/manitou-beach-farmers-market-08-08-2020-13418
END:VEVENT

END:VCALENDAR
