BEGIN:VCALENDAR
VERSION:2.0
PRODID:-//ChamberMaster//Event Calendar 2.0//EN
METHOD:PUBLISH
X-PUBLISHED-TTL:P3D
REFRESH-INTERVAL:P3D
CALSCALE:GREGORIAN
BEGIN:VEVENT
DTSTART:20260510T150000Z
DTEND:20260511T010000Z
X-MICROSOFT-CDO-ALLDAYEVENT:FALSE
SUMMARY:Mothers Day at Flamingo Beach Grille and Bar
DESCRIPTION:Menu specials for Mother's Day
X-ALT-DESC;FMTTYPE=text/html:Menu specials for Mother&#39\;s Day
LOCATION:Flamingo Beach Grille & Bar 4321 Michigan Ave. Tipton\, MI
UID:e.2641.21501
SEQUENCE:3
DTSTAMP:20260423T062257Z
URL:https://business.irishhills.com/events/details/mothers-day-at-flamingo-beach-grille-and-bar-21501
END:VEVENT

END:VCALENDAR
