BEGIN:VCALENDAR
VERSION:2.0
PRODID:-//ChamberMaster//Event Calendar 2.0//EN
METHOD:PUBLISH
X-PUBLISHED-TTL:P3D
REFRESH-INTERVAL:P3D
CALSCALE:GREGORIAN
BEGIN:VEVENT
DTSTART:20260605T210000Z
DTEND:20260608T020000Z
X-MICROSOFT-CDO-ALLDAYEVENT:FALSE
SUMMARY:NASCAR Race Weekend at Michigan International Speedway
DESCRIPTION:Friday\,  June 5th- ARCA Menards Series Henry Ford Health 200 5pm\n\nGet your tickets HERE \n\n\n\nSaturday\, June 6th- Nascar Craftsman Truck Series 1:30pm\,\n\nGet your tickets HERE \n\n\n\nSunday\, June 7th- Firekeepers Casino 400 3pm\n\nGet your tickets HERE
X-ALT-DESC;FMTTYPE=text/html:<br />\nFriday\,&nbsp\; June 5th- ARCA Menards Series Henry Ford Health 200 5pm<br />\nGet your tickets <a href="https://am.ticketmaster.com/mis/ism/QjI2QTJBRE0=">HERE&nbsp\;</a><br />\n<br />\nSaturday\, June 6th- Nascar Craftsman Truck Series 1:30pm\,<br />\nGet your tickets<a href="https://www.mispeedway.com/events/summer-cup-series/"> HERE&nbsp\;</a><br />\n<br />\nSunday\, June 7th- Firekeepers Casino 400 3pm<br />\nGet your tickets <a href="https://www.mispeedway.com/events/summer-cup-series/">HERE</a>
LOCATION:Michigan International Speedway 12626 US 12 Brooklyn\, MI
UID:e.2641.21230
SEQUENCE:3
DTSTAMP:20260423T081028Z
URL:https://business.irishhills.com/events/details/nascar-race-weekend-at-michigan-international-speedway-21230
END:VEVENT

END:VCALENDAR
