BEGIN:VCALENDAR
VERSION:2.0
PRODID:-//ChamberMaster//Event Calendar 2.0//EN
METHOD:PUBLISH
X-PUBLISHED-TTL:P3D
REFRESH-INTERVAL:P3D
CALSCALE:GREGORIAN
BEGIN:VEVENT
DTSTART:20191207T210000Z
DTEND:20191208T030000Z
X-MICROSOFT-CDO-ALLDAYEVENT:FALSE
SUMMARY:Oh These Irish Hills! Christmas Gala
DESCRIPTION:8th Annual Christmas Gala Event   December 6\, 7\, 8\, 2019\n\nThe Eagles Hall in Brooklyn\, Michigan will again be transformed into a Winter Wonderland beginning at 4 p.m. on Friday\, December 6th and running through the weekend until Sunday\, December 8th at 1 p.m. \n\nRegister early for "Paint Your Pet" and "Celebrity Guest Chef" for more information call Kay (517)403-5358\n\nFriday: \n\n4:00-10:00pm Gala Open House Hours\n\n5:00-7:00pm Eagles Steak ($12) or Chicken ($9) Dinner- Cash Bar- Music\n\n7:00-10:00pm Entertainment by Mid-Michigan Entertainment\n\n\n\nSaturday:\n\n9:00-9:30am Stretch & Breath away holiday stress with Ryan\n\n10:00-6:00pm Christmas Crawl Shopping at $5\, $10\, & more tables\n\n10:00-1:00pm Paint your Pet (any pet can be painted)\n\n6:00-8:00pm 8 local chefs & foodies go head to head with their "Sip & Bite" offerings. Each chef will prepare 50 delicious sample bites paired with a wine or beer for guests to enjoy and vote on! \n\n\n\nSunday:\n\n8:00-1:00pm Gala Open House Hours\n\n8:00-Noon Breakfast at the Eagles ($6 all you can eat!) 50/50 Raffle\n\n9:00-Noon Breakfast with Santa and Elf Ryan\n\n1:00pm Silent Auction of Holiday items closes
X-ALT-DESC;FMTTYPE=text/html:<span style="color: rgba(0\, 0\, 0\, 0.6)\; font-family: &quot\;Encode Sans&quot\;\, sans-serif\; font-size: 17.6px\; background-color: rgb(255\, 255\, 255)\;">&nbsp\;8th Annual Christmas Gala Event &ndash\; December 6\, 7\, 8\, 2019<br />\nThe Eagles Hall in Brooklyn\, Michigan will again be transformed into a Winter Wonderland beginning at 4 p.m. on Friday\, December 6th and running through the weekend until Sunday\, December 8th at 1 p.m.&nbsp\;</span><br />\n<span style="color:#FF0000\;"><span style="font-family: &quot\;Encode Sans&quot\;\, sans-serif\; font-size: 17.6px\; background-color: rgb(255\, 255\, 255)\;">Register early for &quot\;Paint Your Pet&quot\; and &quot\;Celebrity Guest Chef&quot\; for more information call Kay (517)403-5358</span></span><br />\n<span style="color: rgba(0\, 0\, 0\, 0.6)\; font-family: &quot\;Encode Sans&quot\;\, sans-serif\; font-size: 17.6px\; background-color: rgb(255\, 255\, 255)\;">Friday:&nbsp\;<br />\n4:00-10:00pm Gala Open House Hours<br />\n5:00-7:00pm Eagles Steak ($12) or Chicken ($9) Dinner- Cash Bar- Music<br />\n7:00-10:00pm Entertainment by Mid-Michigan Entertainment<br />\n<br />\nSaturday:<br />\n9:00-9:30am Stretch &amp\; Breath away holiday stress with Ryan<br />\n10:00-6:00pm Christmas Crawl Shopping at $5\, $10\, &amp\; more tables<br />\n10:00-1:00pm Paint your Pet (any pet can be painted)<br />\n6:00-8:00pm 8 local chefs &amp\; foodies go head to head with their &quot\;Sip &amp\; Bite&quot\; offerings. Each chef will prepare 50 delicious sample bites paired with a wine or beer for guests to enjoy and vote on!&nbsp\;<br />\n<br />\nSunday:<br />\n8:00-1:00pm Gala Open House Hours<br />\n8:00-Noon Breakfast at the Eagles ($6 all you can eat!) 50/50 Raffle<br />\n9:00-Noon Breakfast with Santa and Elf Ryan<br />\n1:00pm Silent Auction of Holiday items closes</span>
LOCATION:Irish Hills Eagles 9500 Wamplers Lake Rd Brooklyn\, MI 49265
UID:e.2641.13022
SEQUENCE:3
DTSTAMP:20260423T183245Z
URL:https://business.irishhills.com/events/details/oh-these-irish-hills-christmas-gala-13022
END:VEVENT

END:VCALENDAR
