BEGIN:VCALENDAR
VERSION:2.0
PRODID:-//ChamberMaster//Event Calendar 2.0//EN
METHOD:PUBLISH
X-PUBLISHED-TTL:P3D
REFRESH-INTERVAL:P3D
CALSCALE:GREGORIAN
BEGIN:VEVENT
DTSTART:20191207T150000Z
DTEND:20191207T210000Z
X-MICROSOFT-CDO-ALLDAYEVENT:FALSE
SUMMARY:Old-Fashioned Christmas at the Brick Walker Tavern
DESCRIPTION:6th Annual Christmas open house!\n\n\n\nSee the beauty of the tavern decorated for Christmas and sample some snacks! Children can makes crafts and visit with Santa in the barn from 11am-2pm both days.\n\nAnd live music from Two Dulcimers and a Flute. 1pm on both days.\n\nAccepting non-perishable food items for the Brooklyn Food Pantry.
X-ALT-DESC;FMTTYPE=text/html:6th Annual Christmas open house!<br />\n<br />\nSee the beauty of the tavern decorated for Christmas and sample some snacks! Children can makes crafts and visit with Santa in the barn from 11am-2pm both days.<br />\nAnd live music from Two Dulcimers and a Flute. 1pm on both days.<br />\nAccepting non-perishable food items for the Brooklyn Food Pantry.<br />\n&nbsp\;
LOCATION:Brick Walker Tavern 11705 US 12 Brooklyn\, MI 49230
UID:e.2641.13020
SEQUENCE:3
DTSTAMP:20260423T183341Z
URL:https://business.irishhills.com/events/details/old-fashioned-christmas-at-the-brick-walker-tavern-13020
END:VEVENT

END:VCALENDAR
