BEGIN:VCALENDAR
VERSION:2.0
PRODID:-//ChamberMaster//Event Calendar 2.0//EN
METHOD:PUBLISH
X-PUBLISHED-TTL:P3D
REFRESH-INTERVAL:P3D
CALSCALE:GREGORIAN
BEGIN:VEVENT
DTSTART:20190816T160000Z
DTEND:20190818T160000Z
X-MICROSOFT-CDO-ALLDAYEVENT:FALSE
SUMMARY:Onsted Festival
DESCRIPTION:The Onsted Festival is coming back!!\n\n	Food Vendors\n	Kelly's Inflatables\n	Pony Rides and Petting Zoo\n	Critter Shows\n	Walking Magician\n	Ball Z Balls\n	3 on 3 Basketball\n	Home Run Derby (adults)\n	Softball Tournament\n	Car Show\n	Live Bands\n	Night Time Street Dance\n	Parade\n	Craft Vendors
X-ALT-DESC;FMTTYPE=text/html:The Onsted Festival is coming back!!\n<ul>\n	<li>Food Vendors</li>\n	<li>Kelly&#39\;s Inflatables</li>\n	<li>Pony Rides and Petting Zoo</li>\n	<li>Critter Shows</li>\n	<li>Walking Magician</li>\n	<li>Ball Z Balls</li>\n	<li>3 on 3 Basketball</li>\n	<li>Home Run Derby (adults)</li>\n	<li>Softball Tournament</li>\n	<li>Car Show</li>\n	<li>Live Bands</li>\n	<li>Night Time Street Dance</li>\n	<li>Parade</li>\n	<li>Craft Vendors</li>\n</ul>\n
LOCATION:On Main St. and in the Village Park
UID:e.2641.12739
SEQUENCE:3
DTSTAMP:20260423T031758Z
URL:https://business.irishhills.com/events/details/onsted-festival-12739
END:VEVENT

END:VCALENDAR
