BEGIN:VCALENDAR
VERSION:2.0
PRODID:-//ChamberMaster//Event Calendar 2.0//EN
METHOD:PUBLISH
X-PUBLISHED-TTL:P3D
REFRESH-INTERVAL:P3D
CALSCALE:GREGORIAN
BEGIN:VEVENT
DTSTART:20191208T180000Z
DTEND:20191208T230000Z
X-MICROSOFT-CDO-ALLDAYEVENT:FALSE
SUMMARY:Pallet Painting Party Fundraiser at Jan's Dance Connection
DESCRIPTION:The dance studio will be hosting a Pallet Painting Fundraiser again this year! The proceeds will go to the Jan's Dance Connection Dancers.\n\nThere will be children's pallet painting session from 1-3pm costing $15 and up.\n\nThe adult pallet painting session will run from 3-5pm with pallet costing $35 and up.\n\nPallets will be provided by Pallets By Design and you are able to select your pallet prior to the event. \n\nTo register for the event:https://www.palletsbydesign.net/   and click on events.\n\nThen click what you would like to paint (excludes clocks and doormats)
X-ALT-DESC;FMTTYPE=text/html:The dance studio will be hosting a Pallet Painting Fundraiser again this year! The proceeds will go to the Jan&#39\;s Dance Connection Dancers.<br />\nThere will be children&#39\;s pallet painting session from 1-3pm costing $15 and up.<br />\nThe adult pallet painting session will run from 3-5pm with pallet costing $35 and up.<br />\nPallets will be provided by Pallets By Design and you are able to select your pallet prior to the event.&nbsp\;<br />\nTo register for the event:<a href="https://www.palletsbydesign.net/">https://www.palletsbydesign.net/</a> &nbsp\; and click on events.<br />\nThen click what you would like to paint (excludes clocks and doormats)
LOCATION:Jan's Dance Connection 120 N. Main St. Brooklyn\, MI 49230
UID:e.2641.13027
SEQUENCE:3
DTSTAMP:20260423T183449Z
URL:https://business.irishhills.com/events/details/pallet-painting-party-fundraiser-at-jan-s-dance-connection-13027
END:VEVENT

END:VCALENDAR
