BEGIN:VCALENDAR
VERSION:2.0
PRODID:-//ChamberMaster//Event Calendar 2.0//EN
METHOD:PUBLISH
X-PUBLISHED-TTL:P3D
REFRESH-INTERVAL:P3D
CALSCALE:GREGORIAN
BEGIN:VEVENT
DTSTART:20230120T220000Z
DTEND:20230121T000000Z
X-MICROSOFT-CDO-ALLDAYEVENT:FALSE
SUMMARY:Perch Dinner at the Irish Hills Eagles
DESCRIPTION:Open to the public!\n\nStop out to try the Irish Hills Eagles famous perch dinner.- $10 includes:\n\nMac & Cheese or French Fries\n\nColeslaw\n\nRoll & butter & tarter sauce
X-ALT-DESC;FMTTYPE=text/html:<p>Open to the public!<br />\nStop out to try the Irish Hills Eagles famous perch dinner.- $10 includes:<br />\nMac &amp\; Cheese or French Fries<br />\nColeslaw<br />\nRoll &amp\; butter &amp\; tarter sauce<br />\n&nbsp\;</p>\n
LOCATION:Irish Hills Eagles 9500 Wamplers Lake Rd. Brooklyn\, MI
UID:e.2641.15972
SEQUENCE:3
DTSTAMP:20260426T014329Z
URL:https://business.irishhills.com/events/details/perch-dinner-at-the-irish-hills-eagles-15972
END:VEVENT

END:VCALENDAR
