BEGIN:VCALENDAR
VERSION:2.0
PRODID:-//ChamberMaster//Event Calendar 2.0//EN
METHOD:PUBLISH
X-PUBLISHED-TTL:P3D
REFRESH-INTERVAL:P3D
CALSCALE:GREGORIAN
BEGIN:VEVENT
DTSTART:20231120T140000Z
DTEND:20231120T210000Z
X-MICROSOFT-CDO-ALLDAYEVENT:FALSE
SUMMARY:Pet Portrait Day with April Messer Photography
DESCRIPTION:PICTURE DAY! Unleashed and Loving It Doggy Daycare. Make sure to get your order forms filled out. Packages will be ready for the perfect holiday gifts. Lots of gift options or keep sakes of your favorite pet.
X-ALT-DESC;FMTTYPE=text/html:<span style="color: rgb(5\, 5\, 5)\; font-family: &quot\;Segoe UI Historic&quot\;\, &quot\;Segoe UI&quot\;\, Helvetica\, Arial\, sans-serif\; font-size: 15px\; background-color: rgb(255\, 255\, 255)\;">PICTURE DAY! Unleashed and Loving It Doggy Daycare. Make sure to get your order forms filled out. Packages will be ready for the perfect holiday gifts. Lots of gift options or keep sakes of your favorite pet.</span>
LOCATION:Unleashed & Lovin It 3104 Page Ave. Jackson\, MI
UID:e.2641.16966
SEQUENCE:3
DTSTAMP:20260421T120817Z
URL:https://business.irishhills.com/events/details/pet-portrait-day-with-april-messer-photography-16966
END:VEVENT

END:VCALENDAR
