BEGIN:VCALENDAR
VERSION:2.0
PRODID:-//ChamberMaster//Event Calendar 2.0//EN
METHOD:PUBLISH
X-PUBLISHED-TTL:P3D
REFRESH-INTERVAL:P3D
CALSCALE:GREGORIAN
BEGIN:VEVENT
DTSTART;VALUE=DATE:20200219
DTEND;VALUE=DATE:20200220
TRANSP:TRANSPARENT
X-MICROSOFT-CDO-ALLDAYEVENT:TRUE
SUMMARY:Presidents Day Sale at Pegasus Spas & Leisure Products
DESCRIPTION:Presidents Day Sale   offering an instant rebate of up to $1\,000 on 2019 and newer model year 980 \, 880  and 780  Series spas. The promotion begins on Friday\, February 14th. These amazing deals are only available through Monday\, February 24th\, so now is the best time to come by the showroom to find the Sundance  spa that's perfect for you.
X-ALT-DESC;FMTTYPE=text/html:<p><big><span style="font-size:14px"><span style="font-family:times new roman">Presidents Day Sale &mdash\; offering an instant rebate of up to $1\,000 on 2019 and newer model year 980&trade\;\, 880&trade\; and 780&trade\; Series spas. The promotion begins on Friday\, February 14th. These amazing deals are only available through Monday\, February 24th\, so now is the best time to come by the showroom to find the Sundance&reg\; spa that&rsquo\;s perfect for you.</span></span></big></p>\n
LOCATION:
UID:e.2641.13258
SEQUENCE:3
DTSTAMP:20260420T190431Z
URL:https://business.irishhills.com/events/details/presidents-day-sale-02-19-2020-13258
END:VEVENT

END:VCALENDAR
