BEGIN:VCALENDAR
VERSION:2.0
PRODID:-//ChamberMaster//Event Calendar 2.0//EN
METHOD:PUBLISH
X-PUBLISHED-TTL:P3D
REFRESH-INTERVAL:P3D
CALSCALE:GREGORIAN
BEGIN:VEVENT
DTSTART:20240726T140000Z
DTEND:20240726T190000Z
X-MICROSOFT-CDO-ALLDAYEVENT:FALSE
SUMMARY:Quilt Workshop at Walker Tavern Historic Site
DESCRIPTION:Quilt Workshop- make a pillow- $40 all supplies\, lunch/snacks included. (limited to 15)\n\nOpen to 12-17 years of age\, if accompanied by adult.\n\nCall (517)260-1946
X-ALT-DESC;FMTTYPE=text/html:Quilt Workshop- make a pillow- $40 all supplies\, lunch/snacks included. (limited to 15)<br />\nOpen to 12-17 years of age\, if accompanied by adult.<br />\nCall (517)260-1946
LOCATION:Walker Tavern Historic Site 13200 M50 Brooklyn\, MI
UID:e.2641.17476
SEQUENCE:3
DTSTAMP:20260419T152551Z
URL:https://business.irishhills.com/events/details/quilt-workshop-at-walker-tavern-historic-site-17476
END:VEVENT

END:VCALENDAR
