BEGIN:VCALENDAR
VERSION:2.0
PRODID:-//ChamberMaster//Event Calendar 2.0//EN
METHOD:PUBLISH
X-PUBLISHED-TTL:P3D
REFRESH-INTERVAL:P3D
CALSCALE:GREGORIAN
BEGIN:VEVENT
DTSTART:20210219T150000Z
DTEND:20210219T173000Z
X-MICROSOFT-CDO-ALLDAYEVENT:FALSE
SUMMARY:Region 2 Area Agency on Aging Cancer PATH Workshop
DESCRIPTION:To Register\, Click on the Series you would like to attend:\n\nWednesday Night Series: January 20 - February 24\, 2021 5:00pm - 7:30pm\n\n\n\nFriday Morning Series: February 19 - March 26\, 2021 10:00am - 12:30pm\n\n\n\nMonday Afternoon Series: April 12 - May 17\, 2021 1:00pm - 3:30pm\n\n\n\nTuesday Afternoon Series: July 13 - August 17\, 2021 1:30 - 4:00pm\n\n\n\nTuesday Night Series: September 14 - October 19\, 2021 5:00pm - 7:30pm\n\n\n\nFor inquiries please call: (517) 592-1678 or email: livingwellprograms@r2aaa.net
X-ALT-DESC;FMTTYPE=text/html:To Register\, Click on the Series you would like to attend:<br />\n<a href="https://us02web.zoom.us/meeting/register/tZcrcuitpjIqGNdN3Qhhxd_IGl1BUR0WO8Vs">Wednesday Night Series: January 20 - February 24\, 2021 5:00pm - 7:30pm</a><br />\n<br />\n<a href="https://us02web.zoom.us/meeting/register/tZYsf-uurDIuHdOjSpzY6Xq3AyC-Q0FlB1X1">Friday Morning Series: February 19 - March 26\, 2021 10:00am - 12:30pm</a><br />\n<br />\n<a href="https://us02web.zoom.us/meeting/register/tZMvdeyhrTgoGtdKVT6_V0_PspFWSKfLAsGy">Monday Afternoon Series: April 12 - May 17\, 2021 1:00pm - 3:30pm</a><br />\n<br />\n<a href="https://us02web.zoom.us/meeting/register/tZcvceGspjosE9MP0Iy6eJKwsUK1KxSnmBZI">Tuesday Afternoon Series: July 13 - August 17\, 2021 1:30 - 4:00pm</a><br />\n<br />\n<a href="https://us02web.zoom.us/meeting/register/tZwrduirrD4vEtfdv1a4I1jVKNqDAxgHC6gb">Tuesday Night Series: September 14 - October 19\, 2021 5:00pm - 7:30pm</a><br />\n<br />\nFor inquiries please call: (517) 592-1678 or email: livingwellprograms@r2aaa.net
LOCATION:Virtual Zoom
UID:e.2641.13813
SEQUENCE:3
DTSTAMP:20260421T185911Z
URL:https://business.irishhills.com/events/details/region-2-area-agency-on-aging-cancer-path-workshop-13813
END:VEVENT

END:VCALENDAR
