BEGIN:VCALENDAR
VERSION:2.0
PRODID:-//ChamberMaster//Event Calendar 2.0//EN
METHOD:PUBLISH
X-PUBLISHED-TTL:P3D
REFRESH-INTERVAL:P3D
CALSCALE:GREGORIAN
BEGIN:VEVENT
DTSTART:20200921T170000Z
DTEND:20200921T193000Z
X-MICROSOFT-CDO-ALLDAYEVENT:FALSE
SUMMARY:Region 2 Area Agency on Aging Chronic Pain Workshop
DESCRIPTION:Chronic Pain PATH is a 6 week( no meeting on Labor Day) online workshop that teaches tools to better self- manage symptoms and side effects as we face the daily challenges of living with a chronic condition like arthritis\, back pain\, fibromyalgia\, or other pain conditions.\n\nOnline through zoom and the cost is FREE! \n\nClick here to register online \n\nOR Call Region 2 Area Agency on Aging to register at (517)592-1678
X-ALT-DESC;FMTTYPE=text/html:Chronic Pain PATH is a 6 week( no meeting on Labor Day) online workshop that teaches tools to better self- manage symptoms and side effects as we face the daily challenges of living with a chronic condition like arthritis\, back pain\, fibromyalgia\, or other pain conditions.<br />\nOnline through zoom and the cost is FREE!&nbsp\;<br />\n<a href="https://us02web.zoom.us/meeting/register/tZMkcuygqT8rHdOMkVuO7NyAijnp5Em6yLPZ">Click here to register online</a>&nbsp\;<br />\nOR Call Region 2 Area Agency on Aging to register at (517)592-1678
LOCATION:
UID:e.2641.13432
SEQUENCE:3
DTSTAMP:20260423T050600Z
URL:https://business.irishhills.com/events/details/region-2-area-agency-on-aging-chronic-pain-workshop-09-21-2020-13432
END:VEVENT

END:VCALENDAR
