BEGIN:VCALENDAR
VERSION:2.0
PRODID:-//ChamberMaster//Event Calendar 2.0//EN
METHOD:PUBLISH
X-PUBLISHED-TTL:P3D
REFRESH-INTERVAL:P3D
CALSCALE:GREGORIAN
BEGIN:VEVENT
DTSTART:20170715T200000Z
DTEND:20170716T010000Z
X-MICROSOFT-CDO-ALLDAYEVENT:FALSE
SUMMARY:Rockin' the Hills Craft Beer Festival
DESCRIPTION:Join us for the 3rd Annual Rockin' the Hills Craft Beer Festival at Devils Lake in the Irish Hills featuring over 30 Michigan breweries (with a couple of wines and ciders too!)  Our unique selection of the best of the craft beers\, great live music with an amazing location makes this a festival you don't want to miss!\n\n\n\nTICKETS ARE AVAILABLE AT THE DOOR OR AT WOODSTOCK WINE AND CHEESE.
X-ALT-DESC;FMTTYPE=text/html:Join us for the 3rd Annual <em>Rockin&#39\; the Hills</em> Craft Beer Festival at Devils Lake in the Irish Hills featuring over 30 Michigan breweries (with a couple of wines and ciders too!)&nbsp\; Our unique selection of the best of the craft beers\, great live&nbsp\;music&nbsp\;with an amazing location makes this a festival you don&#39\;t want to miss!<br />\n<br />\n<strong><span style="font-size:14px\;">TICKETS ARE AVAILABLE AT THE DOOR OR AT WOODSTOCK WINE AND CHEESE. &nbsp\;</span></strong><br />\n<br />\n&nbsp\;
LOCATION:Manitou Beach Village on Devils Lake in the Irish Hills\; 110 Devils Lake Hwy. Manitou Beach\, MI 49253
UID:e.2641.2713
SEQUENCE:3
DTSTAMP:20260424T180126Z
URL:https://business.irishhills.com/events/details/rockin-the-hills-craft-beer-festival-2713
END:VEVENT

END:VCALENDAR
